BEGIN:VCALENDAR
VERSION:2.0
PRODID:-//ChamberMaster//Event Calendar 2.0//EN
METHOD:PUBLISH
X-PUBLISHED-TTL:P3D
REFRESH-INTERVAL:P3D
CALSCALE:GREGORIAN
BEGIN:VEVENT
DTSTART:20260613T160000Z
DTEND:20260613T220000Z
X-MICROSOFT-CDO-ALLDAYEVENT:FALSE
SUMMARY:06/13/2026 Eric Sander Memorial Trap Shoot - Pulling for Education
DESCRIPTION:Join us for a fun day of Team building and connections!\n\n\n\nHonoring Legacy\, Building the Future\n\nGoal: Support the endeavors of SWCA - getting kids into the trades.\n\n\n\nBy participating\, you are helping fund opportunities that shape futures\, strengthen communities\, and support SWCA's passion for mentoring and skill-building.\n\n\nRegistration & Pricing (for members)\n\n\n	Individual Entry: $120 (Includes coffee/snacks/lunch - bring your own ammo/gun)\n	Team Discount: Register a Squad of 5 and pay only $550 (Save $50!)\n\n Team Transportation Encouraged!\n\n\n	We encourage carpooling & company vans to enhance team bonding and minimize parking issues.\n\n\n\n\nRegister your squad of 5 today! \n\n\n\nContact Christine Miller for Sponsorship Opportunities   christine@swca.org
X-ALT-DESC;FMTTYPE=text/html:<strong><span style="font-family:futura pt book\,sans-serif\;">Join us for a fun day of&nbsp\;<u>Team building&nbsp\;</u>and connections!</span></strong><br />\n<br />\n<span style="font-family:futura pt book\,sans-serif\;">Honoring Legacy\, Building the Future</span><br />\n<span style="font-family:futura pt book\,sans-serif\;">Goal:&nbsp\;Support the endeavors of SWCA - getting kids into the trades.</span><br />\n<br />\n<span style="font-family:futura pt book\,sans-serif\;">By participating\, you are&nbsp\;helping fund opportunities that shape futures\, strengthen communities\, and support SWCA&#39\;s passion for mentoring and skill-building.</span>\n<div align="center" style="text-align:center\;">\n<hr align="center" size="1" width="100%" /></div>\n<strong><span style="font-family:futura pt book\,sans-serif\;">Registration &amp\; Pricing (for members)</span></strong>\n\n<ul>\n	<li><span style="font-family:futura pt book\,sans-serif\;">Individual Entry:&nbsp\;$120 (Includes coffee/snacks/lunch -&nbsp\;bring your own ammo/gun)</span></li>\n	<li><span style="font-family:futura pt book\,sans-serif\;">Team Discount:&nbsp\;Register&nbsp\;a Squad of 5&nbsp\;and pay&nbsp\;only $550&nbsp\;(Save $50!)</span></li>\n</ul>\n<strong><span style="font-family:futura pt book\,sans-serif\;">&nbsp\;Team Transportation Encouraged!</span></strong>\n\n<ul>\n	<li><span style="font-family:futura pt book\,sans-serif\;">We encourage&nbsp\;carpooling &amp\; company vans&nbsp\;to&nbsp\;enhance team bonding&nbsp\;and minimize parking issues.</span></li>\n</ul>\n\n<div align="center" style="text-align:center\;">\n<hr align="center" size="1" width="100%" /></div>\n<strong><span style="font-family:futura pt book\,sans-serif\;">Register your squad of 5 today!&nbsp\;<br />\n<br />\nContact Christine Miller for Sponsorship Opportunities &ndash\; <a href="mailto:christine@swca.org">christine@swca.org</a> &nbsp\;</span></strong>
LOCATION:Vancouver Trap and Gun Club 11100 NE 76th Street Vancouver\, WA 98662
UID:e.9256.5563
SEQUENCE:3
DTSTAMP:20260423T233844Z
URL:https://members.swca.org/events/details/06-13-2026-eric-sander-memorial-trap-shoot-pulling-for-education-5563
END:VEVENT

END:VCALENDAR
